BEGIN:VCALENDAR
VERSION:2.0
PRODID:-//Ambilly  - ECPv6.15.20//NONSGML v1.0//EN
CALSCALE:GREGORIAN
METHOD:PUBLISH
X-ORIGINAL-URL:https://ambilly.fr
X-WR-CALDESC:Évènements pour Ambilly 
REFRESH-INTERVAL;VALUE=DURATION:PT1H
X-Robots-Tag:noindex
X-PUBLISHED-TTL:PT1H
BEGIN:VTIMEZONE
TZID:Europe/Paris
BEGIN:DAYLIGHT
TZOFFSETFROM:+0100
TZOFFSETTO:+0200
TZNAME:CEST
DTSTART:20250330T010000
END:DAYLIGHT
BEGIN:STANDARD
TZOFFSETFROM:+0200
TZOFFSETTO:+0100
TZNAME:CET
DTSTART:20251026T010000
END:STANDARD
BEGIN:DAYLIGHT
TZOFFSETFROM:+0100
TZOFFSETTO:+0200
TZNAME:CEST
DTSTART:20260329T010000
END:DAYLIGHT
BEGIN:STANDARD
TZOFFSETFROM:+0200
TZOFFSETTO:+0100
TZNAME:CET
DTSTART:20261025T010000
END:STANDARD
BEGIN:DAYLIGHT
TZOFFSETFROM:+0100
TZOFFSETTO:+0200
TZNAME:CEST
DTSTART:20270328T010000
END:DAYLIGHT
BEGIN:STANDARD
TZOFFSETFROM:+0200
TZOFFSETTO:+0100
TZNAME:CET
DTSTART:20271031T010000
END:STANDARD
END:VTIMEZONE
BEGIN:VEVENT
DTSTART;TZID=Europe/Paris:20260506T180000
DTEND;TZID=Europe/Paris:20260506T210000
DTSTAMP:20260424T102455
CREATED:20260407T072736Z
LAST-MODIFIED:20260407T072736Z
UID:28096-1778090400-1778101200@ambilly.fr
SUMMARY:Repair Café
DESCRIPTION:Avec l’aide du Repair café de la Yaute\, donnez une seconde vie à vos objets.\nRendez-vous au 13 rue de Genève tous les mercredis de 18h à 21h ou le 2e samedi du mois de 9h à 12h (11/04\, 9/05\, 13/06 ou 11/07).
URL:https://ambilly.fr/event/repair-cafe-6/
LOCATION:Repair Café de la Yaute\, 13 rue de Genève\, Ambilly\, 74100\, France
END:VEVENT
BEGIN:VEVENT
DTSTART;TZID=Europe/Paris:20260507T090000
DTEND;TZID=Europe/Paris:20260507T120000
DTSTAMP:20260424T102455
CREATED:20260219T081848Z
LAST-MODIFIED:20260219T081848Z
UID:26995-1778144400-1778155200@ambilly.fr
SUMMARY:Permanence mutuelle communale
DESCRIPTION:Le CCAS de la Ville d’Ambilly\, partenaire de l’association Actiom\, se mobilise pour une mutuelle santé collective accessible à tous les habitants : retraités\, agriculteurs\, personnes sans emploi\, travailleurs indépendants\, salariés en CDD et intérimaires\, ainsi que les agents municipaux et fonctionnaires. \n  \nQuels sont les avantages ? \n• Tarifs collectifs et négociés\n• 7 niveaux de garanties pour une couverture adaptée à vos besoins\n• Le 100% santé intégré (0€ de reste à charge sur l’optique\, l’auditif et le dentaire)\n• Gratuité au 3e enfant\n• Service d’assistance 24h/24\n• Pas de sélection médicale \nRencontrez un conseiller lors des permanences en mairie\, entre 9h et 12h les jours suivants: \n\nLe jeudi 7 mai 2026 de 9h à 12h\nLe jeudi 11 juin 2026 de 9h à 12h\n\nChaque situation est étudiée individuellement. L’association vous proposera un comparatif gratuit\, sans engagement et vous accompagnera dans vos démarches. \n  \nPrenez rendez-vous en appelant le CCAS d’Ambilly : 04 50 92 83 54 ou l’association Actiom : 05 64 10 00 48. \nPour toute demande de renseignement contactez directement l’association Actiom au 05 64 10 00 48 du lundi au vendredi de 9h à 18h.
URL:https://ambilly.fr/event/permanence-mutuelle-communale-3/
LOCATION:Mairie d’Ambilly\, 2 rue de la Paix\, Ambilly\, 74100\, France
END:VEVENT
BEGIN:VEVENT
DTSTART;TZID=Europe/Paris:20260508T110000
DTEND;TZID=Europe/Paris:20260508T120000
DTSTAMP:20260424T102455
CREATED:20260421T133527Z
LAST-MODIFIED:20260421T133527Z
UID:28264-1778238000-1778241600@ambilly.fr
SUMMARY:Cérémonie commémorative de la Victoire du 8 mai 1945
DESCRIPTION:Cristian Gueret\, maire d’Ambilly\, et l’ensemble du Conseil municipal ont le plaisir de vous convier à la cérémonie commémorative de la Victoire du 8 mai 1945. \nLa cérémonie aura lieu le vendredi 8 mai à 11h aux monument aux morts (rue de la paix 74100 Ambilly). \nLa cérémonie sera suivie d’un vin d’honneur au Salon orange du Clos Babuty.
URL:https://ambilly.fr/event/ceremonie-commemorative-de-la-victoire-du-8-mai-1945/
LOCATION:Monument aux Morts\, 2 rue de la Paix\, Ambilly\, 74100\, France
END:VEVENT
BEGIN:VEVENT
DTSTART;TZID=Europe/Paris:20260509T090000
DTEND;TZID=Europe/Paris:20260509T120000
DTSTAMP:20260424T102455
CREATED:20260407T072817Z
LAST-MODIFIED:20260407T072817Z
UID:28098-1778317200-1778328000@ambilly.fr
SUMMARY:Repair Café
DESCRIPTION:Avec l’aide du Repair café de la Yaute\, donnez une seconde vie à vos objets.\nRendez-vous au 13 rue de Genève tous les mercredis de 18h à 21h ou le 2e samedi du mois de 9h à 12h (9/05\, 13/06 ou 11/07).
URL:https://ambilly.fr/event/repair-cafe-7/
LOCATION:Repair Café de la Yaute\, 13 rue de Genève\, Ambilly\, 74100\, France
END:VEVENT
BEGIN:VEVENT
DTSTART;TZID=Europe/Paris:20260510T080000
DTEND;TZID=Europe/Paris:20260510T170000
DTSTAMP:20260424T102455
CREATED:20260413T094809Z
LAST-MODIFIED:20260413T094809Z
UID:28160-1778400000-1778432400@ambilly.fr
SUMMARY:Kermesse de la Société d’entraide paroissiale
DESCRIPTION:La Société d’entraide paroissiale organise une kermesse le dimanche 10 mai. Au programme : pâtisserie\, tombola\, repas. \nRéservations aux : 04 50 37 73 24 ou 04 50 92 77 92.
URL:https://ambilly.fr/event/kermesse-de-la-societe-dentraide-paroissiale/
END:VEVENT
BEGIN:VEVENT
DTSTART;TZID=Europe/Paris:20260516T180000
DTEND;TZID=Europe/Paris:20260516T220000
DTSTAMP:20260424T102455
CREATED:20260326T095657Z
LAST-MODIFIED:20260326T095657Z
UID:27681-1778954400-1778968800@ambilly.fr
SUMMARY:Tournoi "Challengers"
DESCRIPTION:Ambiludik organise un tournoi autour du jeu « Challengers » : stratégie bancale\, coups de génie… Venez défier les autres participants\, tenter des plans improbables et viser la victoire. \nEvenement gratuit sur inscription : ambiludik@ambilly.fr / 04 85 22 08 98
URL:https://ambilly.fr/event/tournoi-challengers/
LOCATION:AMBI Ludik\, 5 rue Aristide Briand\, Ambilly\, 74100\, France
END:VEVENT
BEGIN:VEVENT
DTSTART;TZID=Europe/Paris:20260521T093000
DTEND;TZID=Europe/Paris:20260521T120000
DTSTAMP:20260424T102455
CREATED:20260312T092828Z
LAST-MODIFIED:20260312T092852Z
UID:27335-1779355800-1779364800@ambilly.fr
SUMMARY:Atelier estime de soi - l'avancée en âge et l'estime de soi
DESCRIPTION:La mairie d’Ambilly propose 4 ateliers thématiques autour de l’estime de soi des personne de plus de 60 ans. Rendez-vous de 9h30 à 12h. \nLes prochains ateliers : \n\nL’avancée en âge et l’estime de soi\, jeudi 21 mai\nChoisir ce qui me fait du bien pour nourrir l’estime de moi\, jeudi 28 mai\nLa relation aux autres\, jeudi 4 juin\nInitiation à des activités de bien-être (yoga et sophrologie)\n\nInscriptions obligatoires au 04 50 92 83 54. \n 
URL:https://ambilly.fr/event/atelier-estime-de-soi-lavancee-en-age-et-lestime-de-soi/
LOCATION:Clos Babuty\, 27 rue Jean Jaurès\, Ambilly\, 74100\, France
ATTACH;FMTTYPE=image/jpeg:https://ambilly.fr/wp-content/uploads/2026/03/Affiche-atelier-estime-de-soi-Ambilly.jpg
END:VEVENT
BEGIN:VEVENT
DTSTART;TZID=Europe/Paris:20260523T140000
DTEND;TZID=Europe/Paris:20260523T180000
DTSTAMP:20260424T102455
CREATED:20260326T095900Z
LAST-MODIFIED:20260326T095900Z
UID:27684-1779544800-1779559200@ambilly.fr
SUMMARY:Après-midi Sylvanian
DESCRIPTION:Venez vivre un après-midi au cœur du monde magique des Sylvanians. \nÉvènement gratuit\, ouvert à tous.
URL:https://ambilly.fr/event/apres-midi-sylvanian/
LOCATION:AMBI Ludik\, 5 rue Aristide Briand\, Ambilly\, 74100\, France
END:VEVENT
BEGIN:VEVENT
DTSTART;TZID=Europe/Paris:20260527T150000
DTEND;TZID=Europe/Paris:20260527T170000
DTSTAMP:20260424T102455
CREATED:20260326T094509Z
LAST-MODIFIED:20260326T094509Z
UID:27668-1779894000-1779901200@ambilly.fr
SUMMARY:Atelier "fête des gens que l'on aime"
DESCRIPTION:Céline vous accompagnera dans la réalisation d’un cadeau fait avec amour pour une personne importante à vos yeux . \nAge : A partir de 6 ans \nDurée : 2h maximum \n  \nCliquez-ici pour vous inscrire. 
URL:https://ambilly.fr/event/atelier-fete-des-gens-que-lon-aime/
LOCATION:BIMA\, 23 rue de Genève\, Ambilly\, 74100\, France
END:VEVENT
BEGIN:VEVENT
DTSTART;TZID=Europe/Paris:20260528T093000
DTEND;TZID=Europe/Paris:20260528T120000
DTSTAMP:20260424T102455
CREATED:20260312T093019Z
LAST-MODIFIED:20260312T093019Z
UID:27340-1779960600-1779969600@ambilly.fr
SUMMARY:Atelier estime de soi - choisir ce qui me fait du bien pour nourrir l'estime de moi
DESCRIPTION:La mairie d’Ambilly propose 4 ateliers thématiques autour de l’estime de soi des personne de plus de 60 ans. Rendez-vous de 9h30 à 12h. \nLes prochains ateliers : \n\nChoisir ce qui me fait du bien pour nourrir l’estime de moi\, jeudi 28 mai\nLa relation aux autres\, jeudi 4 juin\nInitiation à des activités de bien-être (yoga et sophrologie)\n\nInscriptions obligatoires au 04 50 92 83 54.
URL:https://ambilly.fr/event/atelier-estime-de-soi-choisir-ce-qui-me-fait-du-bien-pour-nourrir-lestime-de-moi/
LOCATION:Clos Babuty\, 27 rue Jean Jaurès\, Ambilly\, 74100\, France
ATTACH;FMTTYPE=image/jpeg:https://ambilly.fr/wp-content/uploads/2026/03/Affiche-atelier-estime-de-soi-Ambilly.jpg
END:VEVENT
BEGIN:VEVENT
DTSTART;TZID=Europe/Paris:20260529T180000
DTEND;TZID=Europe/Paris:20260529T200000
DTSTAMP:20260424T102455
CREATED:20260326T094642Z
LAST-MODIFIED:20260326T094642Z
UID:27670-1780077600-1780084800@ambilly.fr
SUMMARY:Conférence sur la conservation d'œuvres d'arts et d'histoire natruelle par Hugo Bordet
DESCRIPTION:Conférence sur la conservation d’œuvres d’arts avec Hugo Bordet. \nHugo Bordet est Conservateur-préventeur. \nHBconservation\, société en activité depuis 2019\, propose son expertise et ses prestations en régie d’œuvres d’art\, notamment transferts et chantiers de collections. \nBiographie : À travers le territoire français (Agen\, Lyon\, Lille\, Paris\, Colmar\, Saint-Lô\, etc.) et international (les musées saoudiens)\, Hugo Bordet\, son président\, est intervenu en tant que technicien spécialisé\, consultant et chef d’équipe lors d’opérations polyvalentes : inventaire et récolement\, bilan sanitaire\,  conditionnement et reconditionnement de spécimens placés en fluide en conservateur\, diagnostic radioactif (certifié PCR N2)\, assistance à maîtrise d’ouvrage de conception de réserves externalisées et de transfert des collections. \nhttps://www.hbconservation.com/ \n  \nCliquez-ici pour vous inscrire. 
URL:https://ambilly.fr/event/conference-sur-la-conservation-doeuvres-darts-et-dhistoire-natruelle-par-hugo-bordet/
LOCATION:BIMA\, 23 rue de Genève\, Ambilly\, 74100\, France
END:VEVENT
BEGIN:VEVENT
DTSTART;TZID=Europe/Paris:20260604T093000
DTEND;TZID=Europe/Paris:20260604T120000
DTSTAMP:20260424T102455
CREATED:20260312T093105Z
LAST-MODIFIED:20260312T093105Z
UID:27342-1780565400-1780574400@ambilly.fr
SUMMARY:Atelier estime de soi - la relation aux autres
DESCRIPTION:La mairie d’Ambilly propose 4 ateliers thématiques autour de l’estime de soi des personne de plus de 60 ans. Rendez-vous de 9h30 à 12h. \nLes prochains ateliers : \n\nLa relation aux autres\, jeudi 4 juin\nInitiation à des activités de bien-être (yoga et sophrologie)\n\nInscriptions obligatoires au 04 50 92 83 54.
URL:https://ambilly.fr/event/atelier-estime-de-soi-la-relation-aux-autres/
LOCATION:Clos Babuty\, 27 rue Jean Jaurès\, Ambilly\, 74100\, France
ATTACH;FMTTYPE=image/jpeg:https://ambilly.fr/wp-content/uploads/2026/03/Affiche-atelier-estime-de-soi-Ambilly.jpg
END:VEVENT
BEGIN:VEVENT
DTSTART;TZID=Europe/Paris:20260605T180000
DTEND;TZID=Europe/Paris:20260605T190000
DTSTAMP:20260424T102455
CREATED:20260326T094827Z
LAST-MODIFIED:20260326T094827Z
UID:27672-1780682400-1780686000@ambilly.fr
SUMMARY:Concert  "Le flutiste et son buffle" par le duo de l'Ensemble Caravelle
DESCRIPTION:Accompagnées de la metteure en scène Eléonore Dupraz\, Mathilde Arnaud et Maud Besnard racontent sur scène et en musique le conte chinois « L’art d’apprivoiser le buffle » de Kakouan. Véritable conte initiatique sur un chemin intérieur\, petits et grands pourront suivre le fil de l’histoire cousue de musiques mêlant baroque et contemporain. De la flûte alto au traverso\, les flûtistes ont à cœur de faire découvrir les différentes facettes de leur instrument pour mieux illustrer l’histoire. Dans « Le flûtiste et son buffle »\, les musiciennes font vivre sur scène la dualité intérieure et invitent le spectateur à un voyage poétique et méditatif. \nAge : à partir de 8 ans \n  \nCliquez-ici pour vous inscrire. 
URL:https://ambilly.fr/event/concert-le-flutiste-et-son-buffle-par-le-duo-de-lensemble-caravelle/
LOCATION:BIMA\, 23 rue de Genève\, Ambilly\, 74100\, France
END:VEVENT
BEGIN:VEVENT
DTSTART;TZID=Europe/Paris:20260610T150000
DTEND;TZID=Europe/Paris:20260610T170000
DTSTAMP:20260424T102455
CREATED:20260326T094926Z
LAST-MODIFIED:20260326T094926Z
UID:27674-1781103600-1781110800@ambilly.fr
SUMMARY:Atelier spécial Fête de la musique
DESCRIPTION:Un atelier créatif mettant en avant la musique grâce à la bonne ambiance de Céline. \nAge : à partir de 6 ans  \nDurée : 2 heures maximum  \n  \nCliquez-ici pour vous inscrire. 
URL:https://ambilly.fr/event/atelier-special-fete-de-la-musique/
LOCATION:BIMA\, 23 rue de Genève\, Ambilly\, 74100\, France
END:VEVENT
BEGIN:VEVENT
DTSTART;TZID=Europe/Paris:20260611T090000
DTEND;TZID=Europe/Paris:20260611T120000
DTSTAMP:20260424T102455
CREATED:20260219T081926Z
LAST-MODIFIED:20260219T081926Z
UID:26997-1781168400-1781179200@ambilly.fr
SUMMARY:Permanence mutuelle communale
DESCRIPTION:Le CCAS de la Ville d’Ambilly\, partenaire de l’association Actiom\, se mobilise pour une mutuelle santé collective accessible à tous les habitants : retraités\, agriculteurs\, personnes sans emploi\, travailleurs indépendants\, salariés en CDD et intérimaires\, ainsi que les agents municipaux et fonctionnaires. \n  \nQuels sont les avantages ? \n• Tarifs collectifs et négociés\n• 7 niveaux de garanties pour une couverture adaptée à vos besoins\n• Le 100% santé intégré (0€ de reste à charge sur l’optique\, l’auditif et le dentaire)\n• Gratuité au 3e enfant\n• Service d’assistance 24h/24\n• Pas de sélection médicale \nRencontrez un conseiller lors des permanences en mairie\, entre 9h et 12h les jours suivants: \n\nLe jeudi 11 juin 2026 de 9h à 12h\n\nChaque situation est étudiée individuellement. L’association vous proposera un comparatif gratuit\, sans engagement et vous accompagnera dans vos démarches. \n  \nPrenez rendez-vous en appelant le CCAS d’Ambilly : 04 50 92 83 54 ou l’association Actiom : 05 64 10 00 48. \nPour toute demande de renseignement contactez directement l’association Actiom au 05 64 10 00 48 du lundi au vendredi de 9h à 18h.
URL:https://ambilly.fr/event/permanence-mutuelle-communale-4/
LOCATION:Mairie d’Ambilly\, 2 rue de la Paix\, Ambilly\, 74100\, France
END:VEVENT
BEGIN:VEVENT
DTSTART;TZID=Europe/Paris:20260611T093000
DTEND;TZID=Europe/Paris:20260611T120000
DTSTAMP:20260424T102455
CREATED:20260312T093215Z
LAST-MODIFIED:20260312T093215Z
UID:27345-1781170200-1781179200@ambilly.fr
SUMMARY:Atelier estime de soi - initiation à des activités de bien-être (yoga/sophrologie)
DESCRIPTION:La mairie d’Ambilly propose 4 ateliers thématiques autour de l’estime de soi des personne de plus de 60 ans. Rendez-vous de 9h30 à 12h. \nLes prochains ateliers : \n\nInitiation à des activités de bien-être (yoga et sophrologie)\n\nInscriptions obligatoires au 04 50 92 83 54. \n 
URL:https://ambilly.fr/event/atelier-estime-de-soi-initiation-a-des-activites-de-bien-etre-yoga-sophrologie/
LOCATION:Clos Babuty\, 27 rue Jean Jaurès\, Ambilly\, 74100\, France
ATTACH;FMTTYPE=image/jpeg:https://ambilly.fr/wp-content/uploads/2026/03/Affiche-atelier-estime-de-soi-Ambilly.jpg
END:VEVENT
BEGIN:VEVENT
DTSTART;TZID=Europe/Paris:20260612T180000
DTEND;TZID=Europe/Paris:20260612T200000
DTSTAMP:20260424T102455
CREATED:20260326T095037Z
LAST-MODIFIED:20260326T095037Z
UID:27677-1781287200-1781294400@ambilly.fr
SUMMARY:Concert du duo "Solsoum"
DESCRIPTION:Aude et Juliette mélangent leurs voix dans un duo vocal\, complice et solaire : Solsoum ! La singularité de Solsoum repose sur une alliance harmonieuse du chant du violoncelle\, des arpèges de la guitare et des voix euphoniques des deux jeunes femmes. Le propos réside dans une quête de l’universel et du commun dans des cultures musicales en apparence différentes. Elles tentent et explorent des passerelles\, des rapprochements entre des diversités pour en révéler des invariables d’espérance. \nhttps://solsoum.com/ \n  \nCliquez-ici pour vous inscrire. 
URL:https://ambilly.fr/event/concert-du-duo-solsoum/
LOCATION:BIMA\, 23 rue de Genève\, Ambilly\, 74100\, France
END:VEVENT
BEGIN:VEVENT
DTSTART;TZID=Europe/Paris:20260613T180000
DTEND;TZID=Europe/Paris:20260613T220000
DTSTAMP:20260424T102455
CREATED:20260326T123526Z
LAST-MODIFIED:20260326T123526Z
UID:27691-1781373600-1781388000@ambilly.fr
SUMMARY:Soirée "Blood on the Clocktower"
DESCRIPTION:La ludothèque AMBI Ludik organise une soirée jeux pour ados/adultes sur le jeu Blood on the Clocktower\, le meilleur jeu de rôles secrets.\nA partir de 12 ans. \nEvènement gratuit – Sur inscription : ambiludik@ambilly.fr ou 04 85 22 08 98
URL:https://ambilly.fr/event/soiree-blood-on-the-clocktower/
LOCATION:AMBI Ludik\, 5 rue Aristide Briand\, Ambilly\, 74100\, France
END:VEVENT
BEGIN:VEVENT
DTSTART;TZID=Europe/Paris:20260620T180000
DTEND;TZID=Europe/Paris:20260620T220000
DTSTAMP:20260424T102455
CREATED:20260326T123722Z
LAST-MODIFIED:20260326T123722Z
UID:27694-1781978400-1781992800@ambilly.fr
SUMMARY:Soirée jeux traditionnels
DESCRIPTION:Laissez-vous transporter par la magie des jeux traditionnels : un retour aux sources entre souvenirs et surprise\, pour une soirée où la simplicité fait tout son charme ! \nEvènement gratuit- sur inscription : ambiludik@ambilly.fr ou 04 85 22 08 98
URL:https://ambilly.fr/event/soiree-jeux-traditionnels/
LOCATION:AMBI Ludik\, 5 rue Aristide Briand\, Ambilly\, 74100\, France
END:VEVENT
BEGIN:VEVENT
DTSTART;TZID=Europe/Paris:20260624T140000
DTEND;TZID=Europe/Paris:20260624T180000
DTSTAMP:20260424T102455
CREATED:20260326T101018Z
LAST-MODIFIED:20260326T102118Z
UID:27686-1782309600-1782324000@ambilly.fr
SUMMARY:Après-midi Aquabeads
DESCRIPTION:Des perles\, de l’eau… et c’est parti ! Rejoins-nous pour un atelier Aquabeads plein de couleurs et d’imagination. Fabrique tes propres chefs-d’œuvre et repars avec ta création ! \n  \nEvènement gratuit- sur inscription : ambiludik@ambilly.fr ou 04 85 22 08 98
URL:https://ambilly.fr/event/apres-midi-aquabeads/
LOCATION:AMBI Ludik\, 5 rue Aristide Briand\, Ambilly\, 74100\, France
END:VEVENT
BEGIN:VEVENT
DTSTART;TZID=Europe/Paris:20260627T110000
DTEND;TZID=Europe/Paris:20260627T120000
DTSTAMP:20260424T102455
CREATED:20260326T095146Z
LAST-MODIFIED:20260326T095146Z
UID:27679-1782558000-1782561600@ambilly.fr
SUMMARY:Racontz'imois à la plage
DESCRIPTION:Surfer sur les vagues avec les contes de Céline pour se rafraichir même avec la chaleur. \nAge : à partir de 4 ans \nDurée : 45 minutes environ  \n  \nCliquez-ici pour vous inscrire. 
URL:https://ambilly.fr/event/racontzimois-a-la-plage/
LOCATION:BIMA\, 23 rue de Genève\, Ambilly\, 74100\, France
END:VEVENT
END:VCALENDAR